BEGIN:VCALENDAR
VERSION:2.0
PRODID:-//Phoenix Athletica - ECPv6.15.20//NONSGML v1.0//EN
CALSCALE:GREGORIAN
METHOD:PUBLISH
X-ORIGINAL-URL:https://phoenixathletica.com
X-WR-CALDESC:Events for Phoenix Athletica
REFRESH-INTERVAL;VALUE=DURATION:PT1H
X-Robots-Tag:noindex
X-PUBLISHED-TTL:PT1H
BEGIN:VTIMEZONE
TZID:UTC
BEGIN:STANDARD
TZOFFSETFROM:+0000
TZOFFSETTO:+0000
TZNAME:UTC
DTSTART:20160101T000000
END:STANDARD
END:VTIMEZONE
BEGIN:VTIMEZONE
TZID:America/New_York
BEGIN:DAYLIGHT
TZOFFSETFROM:-0500
TZOFFSETTO:-0400
TZNAME:EDT
DTSTART:20160313T070000
END:DAYLIGHT
BEGIN:STANDARD
TZOFFSETFROM:-0400
TZOFFSETTO:-0500
TZNAME:EST
DTSTART:20161106T060000
END:STANDARD
BEGIN:DAYLIGHT
TZOFFSETFROM:-0500
TZOFFSETTO:-0400
TZNAME:EDT
DTSTART:20170312T070000
END:DAYLIGHT
BEGIN:STANDARD
TZOFFSETFROM:-0400
TZOFFSETTO:-0500
TZNAME:EST
DTSTART:20171105T060000
END:STANDARD
BEGIN:DAYLIGHT
TZOFFSETFROM:-0500
TZOFFSETTO:-0400
TZNAME:EDT
DTSTART:20180311T070000
END:DAYLIGHT
BEGIN:STANDARD
TZOFFSETFROM:-0400
TZOFFSETTO:-0500
TZNAME:EST
DTSTART:20181104T060000
END:STANDARD
END:VTIMEZONE
BEGIN:VEVENT
DTSTART;TZID=UTC:20170630T173000
DTEND;TZID=UTC:20170630T193000
DTSTAMP:20260424T095628
CREATED:20170607T015106Z
LAST-MODIFIED:20170607T015118Z
UID:578-1498843800-1498851000@phoenixathletica.com
SUMMARY:Two Hour Zumba Dance Party
DESCRIPTION:2 Hour Zumba Dance Party at Phoenix Athletica in Pocono Summit!! Antuanee and Danielle will still be bringing the fitness party fun and we can’t wait to dance with you!! This is a special class. Cost is $15 and not included with a membership. Please sign up at phoenixathletica.com.
URL:https://phoenixathletica.com/event/two-hour-zumba-dance-party/
LOCATION:Phoenix Athletica\, 2564 Route 940\, Pocono Summit\, 18346\, United States
CATEGORIES:Zumba Party
ORGANIZER;CN="Phoenix Athletica":MAILTO:info@phoenixathletica.com
END:VEVENT
BEGIN:VEVENT
DTSTART;TZID=America/New_York:20170324T173000
DTEND;TZID=America/New_York:20170324T193000
DTSTAMP:20260424T095628
CREATED:20170324T003900Z
LAST-MODIFIED:20170324T013038Z
UID:494-1490376600-1490383800@phoenixathletica.com
SUMMARY:2 HOUR Zumba Party
DESCRIPTION:Danielle Christina & Antuanee Owen at Phoenix Athletica\, LLC for their 2 HOUR Zumba Party\, March 24! \nRegister NOW! \nThe last one was close to SOLD OUT\, and we expect this one to as well! $15 Cash. You can stop by Phoenix Athletica\, LLC and pre-pay at any time. \n\nReserve your spot online @ https://phoenixathletica.com/class-schedule/
URL:https://phoenixathletica.com/event/2-hour-zumba-party-march-24/
LOCATION:Phoenix Athletica\, 2564 Route 940\, Pocono Summit\, 18346\, United States
CATEGORIES:Zumba Party
ATTACH;FMTTYPE=image/jpeg:https://phoenixathletica.com/wp-content/uploads/2017/03/MarchZumba.jpeg
ORGANIZER;CN="Phoenix Athletica":MAILTO:info@phoenixathletica.com
END:VEVENT
END:VCALENDAR